BEGIN:VCALENDAR
VERSION:2.0
PRODID:-//Sabre//Sabre VObject 4.5.8//EN
CALSCALE:GREGORIAN
BEGIN:VEVENT
UID:sabre-vobject-04b63376-8df2-4078-9013-f5088c12ccba
DTSTAMP:20260424T200924Z
SUMMARY:Maiandacht
DESCRIPTION:https://www2.bistum-augsburg.de/gottesdienste/maiandacht_id1716
 227
DTSTART;TZID=Europe/Berlin:20260526T173000
DURATION:PT30M
LOCATION:Don Bosco
END:VEVENT
END:VCALENDAR
