BEGIN:VCALENDAR
VERSION:2.0
PRODID:-//Sabre//Sabre VObject 4.5.8//EN
CALSCALE:GREGORIAN
BEGIN:VEVENT
UID:sabre-vobject-ae3e2aa2-7a89-43c3-adc4-9d9f1a5844a4
DTSTAMP:20260425T210140Z
SUMMARY:Altenberger Rosenkranz
DESCRIPTION:https://www2.bistum-augsburg.de/gottesdienste/altenberger-rosen
 kranz_id1716250
DTSTART;TZID=Europe/Berlin:20260905T174500
DURATION:PT30M
LOCATION:Don Bosco
END:VEVENT
END:VCALENDAR
