BEGIN:VCALENDAR
VERSION:2.0
PRODID:-//Sabre//Sabre VObject 4.5.8//EN
CALSCALE:GREGORIAN
BEGIN:VEVENT
UID:sabre-vobject-0be67f13-c58d-4c4d-8cdc-25d4c7815c56
DTSTAMP:20260425T143413Z
SUMMARY:Eucharistiefeier
DESCRIPTION:https://www2.bistum-augsburg.de/gottesdienste/eucharistiefeier_
 id1716270
DTSTART;TZID=Europe/Berlin:20260723T090000
DURATION:PT30M
LOCATION:Don Bosco
END:VEVENT
END:VCALENDAR
