BEGIN:VCALENDAR
VERSION:2.0
PRODID:-//Sabre//Sabre VObject 4.5.8//EN
CALSCALE:GREGORIAN
BEGIN:VEVENT
UID:sabre-vobject-60f4d600-b48c-48cc-abe4-71ceec2bd404
DTSTAMP:20260425T143317Z
SUMMARY:Eucharistiefeier im Haus am Schäfflerbach
DESCRIPTION:https://www2.bistum-augsburg.de/gottesdienste/eucharistiefeier-
 im-haus-am-schaefflerbach_id1716271
DTSTART;TZID=Europe/Berlin:20260724T160000
DURATION:PT30M
LOCATION:Don Bosco
END:VEVENT
END:VCALENDAR
