BEGIN:VCALENDAR
VERSION:2.0
PRODID:-//Sabre//Sabre VObject 4.5.8//EN
CALSCALE:GREGORIAN
BEGIN:VEVENT
UID:sabre-vobject-c3b14940-5a16-4b54-9e21-4ec736d22e77
DTSTAMP:20260423T180340Z
SUMMARY:Maiandacht (MMC)
DESCRIPTION:https://www2.bistum-augsburg.de/gottesdienste/maiandacht-mmc_id
 1716309
DTSTART;TZID=Europe/Berlin:20260523T183000
DURATION:PT30M
LOCATION:St. Blasius
END:VEVENT
END:VCALENDAR
