BEGIN:VCALENDAR
VERSION:2.0
PRODID:-//Sabre//Sabre VObject 4.5.8//EN
CALSCALE:GREGORIAN
BEGIN:VEVENT
UID:sabre-vobject-05b95ae3-306e-4488-ac72-e69553c63b59
DTSTAMP:20260424T013532Z
SUMMARY:Stille Anbetung anschließend Rosenkranz
DESCRIPTION:https://www2.bistum-augsburg.de/gottesdienste/stille-anbetung-a
 nschliessend-rosenkranz_id1716347
DTSTART;TZID=Europe/Berlin:20260506T174500
DURATION:PT30M
LOCATION:Zwölf Apostel
END:VEVENT
END:VCALENDAR
