BEGIN:VCALENDAR
VERSION:2.0
PRODID:-//Sabre//Sabre VObject 4.5.8//EN
CALSCALE:GREGORIAN
BEGIN:VEVENT
UID:sabre-vobject-ce2fb0a7-5602-4352-a311-c15a6c0fecba
DTSTAMP:20260425T112121Z
SUMMARY:Eucharistiefeier
DESCRIPTION:https://www2.bistum-augsburg.de/gottesdienste/eucharistiefeier_
 id1716358
DTSTART;TZID=Europe/Berlin:20260917T090000
DURATION:PT30M
LOCATION:Don Bosco
END:VEVENT
END:VCALENDAR
