BEGIN:VCALENDAR
VERSION:2.0
PRODID:-//Sabre//Sabre VObject 4.5.8//EN
CALSCALE:GREGORIAN
BEGIN:VEVENT
UID:sabre-vobject-e8ca0c49-45b1-46fa-91d8-983ed3533ec7
DTSTAMP:20260424T124448Z
SUMMARY:Morgenlob - Laudes
DESCRIPTION:https://www2.bistum-augsburg.de/gottesdienste/morgenlob-laudes_
 id1716377
DTSTART;TZID=Europe/Berlin:20260508T064000
DURATION:PT30M
LOCATION:Zwölf Apostel
END:VEVENT
END:VCALENDAR
