BEGIN:VCALENDAR
VERSION:2.0
PRODID:-//Sabre//Sabre VObject 4.5.8//EN
CALSCALE:GREGORIAN
BEGIN:VEVENT
UID:sabre-vobject-df3eeedb-810d-4c6b-ad45-29177c704b21
DTSTAMP:20260424T185721Z
SUMMARY:Messfeier
DESCRIPTION:https://www2.bistum-augsburg.de/gottesdienste/messfeier_id17163
 78
DTSTART;TZID=Europe/Berlin:20260508T070000
DURATION:PT30M
LOCATION:Zwölf Apostel
END:VEVENT
END:VCALENDAR
