BEGIN:VCALENDAR
VERSION:2.0
PRODID:-//Sabre//Sabre VObject 4.5.8//EN
CALSCALE:GREGORIAN
BEGIN:VEVENT
UID:sabre-vobject-4da57221-f5af-4d97-a34f-d3c59def7773
DTSTAMP:20260419T224054Z
SUMMARY:Heilige Messe
DESCRIPTION:https://www2.bistum-augsburg.de/gottesdienste/heilige-messe_id1
 716410
DTSTART;TZID=Europe/Berlin:20260425T183000
DURATION:PT30M
LOCATION:St. Gordian und Epimach
END:VEVENT
END:VCALENDAR
