BEGIN:VCALENDAR
VERSION:2.0
PRODID:-//Sabre//Sabre VObject 4.5.8//EN
CALSCALE:GREGORIAN
BEGIN:VEVENT
UID:sabre-vobject-efd6bf97-9514-4d17-8213-5b67027373bc
DTSTAMP:20260426T031718Z
SUMMARY:Eucharistiefeier anschließend eucharistische Anbetung
DESCRIPTION:https://www2.bistum-augsburg.de/gottesdienste/eucharistiefeier-
 anschliessend-eucharistische-anbetung_id1716425
DTSTART;TZID=Europe/Berlin:20261117T180000
DURATION:PT30M
LOCATION:Don Bosco
END:VEVENT
END:VCALENDAR
