BEGIN:VCALENDAR
VERSION:2.0
PRODID:-//Sabre//Sabre VObject 4.5.8//EN
CALSCALE:GREGORIAN
BEGIN:VEVENT
UID:sabre-vobject-9aa93f86-3ad2-445c-9bbf-6debde12880a
DTSTAMP:20260425T164949Z
SUMMARY:Eucharistiefeier
DESCRIPTION:https://www2.bistum-augsburg.de/gottesdienste/eucharistiefeier_
 id1716464
DTSTART;TZID=Europe/Berlin:20260805T090000
DURATION:PT30M
LOCATION:St. Wolfgang
END:VEVENT
END:VCALENDAR
