BEGIN:VCALENDAR
VERSION:2.0
PRODID:-//Sabre//Sabre VObject 4.5.8//EN
CALSCALE:GREGORIAN
BEGIN:VEVENT
UID:sabre-vobject-0a825a35-bc03-43f3-9d22-f7b7f473c11c
DTSTAMP:20260425T040350Z
SUMMARY:Altenberger Rosenkranz
DESCRIPTION:https://www2.bistum-augsburg.de/gottesdienste/altenberger-rosen
 kranz_id1716481
DTSTART;TZID=Europe/Berlin:20261226T174500
DURATION:PT30M
LOCATION:Don Bosco
END:VEVENT
END:VCALENDAR
