BEGIN:VCALENDAR
VERSION:2.0
PRODID:-//Sabre//Sabre VObject 4.5.8//EN
CALSCALE:GREGORIAN
BEGIN:VEVENT
UID:sabre-vobject-352058ae-a9cd-4ec0-82d4-567a77092d6f
DTSTAMP:20260425T182002Z
SUMMARY:Seniorenclub
DESCRIPTION:https://www2.bistum-augsburg.de/gottesdienste/seniorenclub_id17
 16538
DTSTART;TZID=Europe/Berlin:20261014T143000
DURATION:PT30M
LOCATION:Don Bosco
END:VEVENT
END:VCALENDAR
