BEGIN:VCALENDAR
VERSION:2.0
PRODID:-//Sabre//Sabre VObject 4.5.8//EN
CALSCALE:GREGORIAN
BEGIN:VEVENT
UID:sabre-vobject-2884ae39-d305-4b7d-acaf-1c3fc8635604
DTSTAMP:20260425T213754Z
SUMMARY:Eucharistiefeier
DESCRIPTION:https://www2.bistum-augsburg.de/gottesdienste/eucharistiefeier_
 id1716563
DTSTART;TZID=Europe/Berlin:20261216T090000
DURATION:PT30M
LOCATION:St. Wolfgang
END:VEVENT
END:VCALENDAR
