BEGIN:VCALENDAR
VERSION:2.0
PRODID:-//Sabre//Sabre VObject 4.5.8//EN
CALSCALE:GREGORIAN
BEGIN:VEVENT
UID:sabre-vobject-7c2f8caf-6965-4a09-b40f-2658389dac98
DTSTAMP:20260422T162431Z
SUMMARY:Altenberger Rosenkranz
DESCRIPTION:https://www2.bistum-augsburg.de/gottesdienste/altenberger-rosen
 kranz_id1716571
DTSTART;TZID=Europe/Berlin:20261024T174500
DURATION:PT30M
LOCATION:Don Bosco
END:VEVENT
END:VCALENDAR
