BEGIN:VCALENDAR
VERSION:2.0
PRODID:-//Sabre//Sabre VObject 4.5.8//EN
CALSCALE:GREGORIAN
BEGIN:VEVENT
UID:sabre-vobject-dd70494d-42f3-411b-a1d1-73ff12e25d4c
DTSTAMP:20260425T132655Z
SUMMARY:Heilige Messe rumänisch-orthodoxe Gemeinde
DESCRIPTION:https://www2.bistum-augsburg.de/gottesdienste/heilige-messe-rum
 aenisch-orthodoxe-gemeinde_id1716609
DTSTART;TZID=Europe/Berlin:20261129T110000
DURATION:PT30M
LOCATION:Don Bosco
END:VEVENT
END:VCALENDAR
