BEGIN:VCALENDAR
VERSION:2.0
PRODID:-//Sabre//Sabre VObject 4.5.8//EN
CALSCALE:GREGORIAN
BEGIN:VEVENT
UID:sabre-vobject-def2e1be-0cb8-4fc0-82bc-7fe662192e64
DTSTAMP:20260426T015340Z
SUMMARY:Eucharistiefeier im Haus am Schäfflerbach
DESCRIPTION:https://www2.bistum-augsburg.de/gottesdienste/eucharistiefeier-
 im-haus-am-schaefflerbach_id1716624
DTSTART;TZID=Europe/Berlin:20260925T160000
DURATION:PT30M
LOCATION:Don Bosco
END:VEVENT
END:VCALENDAR
