BEGIN:VCALENDAR
VERSION:2.0
PRODID:-//Sabre//Sabre VObject 4.5.8//EN
CALSCALE:GREGORIAN
BEGIN:VEVENT
UID:sabre-vobject-72255522-f1ab-4bb3-9bbf-bcfbcf0f038f
DTSTAMP:20260424T001502Z
SUMMARY:Messe
DESCRIPTION:https://www2.bistum-augsburg.de/gottesdienste/messe_id1716648
DTSTART;TZID=Europe/Berlin:20260503T100000
DURATION:PT30M
LOCATION:St. Antonius\, Schweglerstraße 1\, 86495 Eurasburg
END:VEVENT
END:VCALENDAR
