BEGIN:VCALENDAR
VERSION:2.0
PRODID:-//Sabre//Sabre VObject 4.5.8//EN
CALSCALE:GREGORIAN
BEGIN:VEVENT
UID:sabre-vobject-970488c4-35a1-4751-beba-abc6eeeef116
DTSTAMP:20260425T114617Z
SUMMARY:Heilige Messe rumänisch-orthodoxe Gemeinde
DESCRIPTION:https://www2.bistum-augsburg.de/gottesdienste/heilige-messe-rum
 aenisch-orthodoxe-gemeinde_id1716676
DTSTART;TZID=Europe/Berlin:20261025T110000
DURATION:PT30M
LOCATION:Don Bosco
END:VEVENT
END:VCALENDAR
