BEGIN:VCALENDAR
VERSION:2.0
PRODID:-//Sabre//Sabre VObject 4.5.8//EN
CALSCALE:GREGORIAN
BEGIN:VEVENT
UID:sabre-vobject-412172cb-b133-4ca6-9083-c1304d921de4
DTSTAMP:20260425T160907Z
SUMMARY:Eucharistiefeier
DESCRIPTION:https://www2.bistum-augsburg.de/gottesdienste/eucharistiefeier_
 id1716688
DTSTART;TZID=Europe/Berlin:20260911T180000
DURATION:PT30M
LOCATION:St. Wolfgang
END:VEVENT
END:VCALENDAR
