BEGIN:VCALENDAR
VERSION:2.0
PRODID:-//Sabre//Sabre VObject 4.5.8//EN
CALSCALE:GREGORIAN
BEGIN:VEVENT
UID:sabre-vobject-703f8649-31c4-42a0-8c3e-aea5b48cbe8a
DTSTAMP:20260423T203716Z
SUMMARY:Messe
DESCRIPTION:https://www2.bistum-augsburg.de/gottesdienste/messe_id1716692
DTSTART;TZID=Europe/Berlin:20260508T090000
DURATION:PT30M
LOCATION:St. Michael\, St.-Michaels-Platz\, 86316 Friedberg
END:VEVENT
END:VCALENDAR
