BEGIN:VCALENDAR
VERSION:2.0
PRODID:-//Sabre//Sabre VObject 4.5.8//EN
CALSCALE:GREGORIAN
BEGIN:VEVENT
UID:sabre-vobject-5dcfd9bc-8d59-4fe5-9b33-6984c522dd3b
DTSTAMP:20260426T031708Z
SUMMARY:Eucharistiefeier anschließend eucharistische Anbetung
DESCRIPTION:https://www2.bistum-augsburg.de/gottesdienste/eucharistiefeier-
 anschliessend-eucharistische-anbetung_id1716715
DTSTART;TZID=Europe/Berlin:20261201T180000
DURATION:PT30M
LOCATION:Don Bosco
END:VEVENT
END:VCALENDAR
