BEGIN:VCALENDAR
VERSION:2.0
PRODID:-//Sabre//Sabre VObject 4.5.8//EN
CALSCALE:GREGORIAN
BEGIN:VEVENT
UID:sabre-vobject-526af284-9296-4d74-8f1c-73268719172f
DTSTAMP:20260425T192403Z
SUMMARY:Eucharistiefeier
DESCRIPTION:https://www2.bistum-augsburg.de/gottesdienste/eucharistiefeier_
 id1716721
DTSTART;TZID=Europe/Berlin:20261206T093000
DURATION:PT30M
LOCATION:Don Bosco
END:VEVENT
END:VCALENDAR
