BEGIN:VCALENDAR
VERSION:2.0
PRODID:-//Sabre//Sabre VObject 4.5.8//EN
CALSCALE:GREGORIAN
BEGIN:VEVENT
UID:sabre-vobject-d0241bad-c6f2-4d7d-89a4-b6d336e966f8
DTSTAMP:20260425T114704Z
SUMMARY:Heilige Messe rumänisch-orthodoxe Gemeinde
DESCRIPTION:https://www2.bistum-augsburg.de/gottesdienste/heilige-messe-rum
 aenisch-orthodoxe-gemeinde_id1716806
DTSTART;TZID=Europe/Berlin:20260705T110000
DURATION:PT30M
LOCATION:Don Bosco
END:VEVENT
END:VCALENDAR
