BEGIN:VCALENDAR
VERSION:2.0
PRODID:-//Sabre//Sabre VObject 4.5.8//EN
CALSCALE:GREGORIAN
BEGIN:VEVENT
UID:sabre-vobject-37feda5c-d3b4-41b4-b3fb-64d7094eb7a7
DTSTAMP:20260425T161622Z
SUMMARY:Rosenkranz
DESCRIPTION:https://www2.bistum-augsburg.de/gottesdienste/rosenkranz_id1716
 813
DTSTART;TZID=Europe/Berlin:20261008T083000
DURATION:PT30M
LOCATION:Don Bosco
END:VEVENT
END:VCALENDAR
