BEGIN:VCALENDAR
VERSION:2.0
PRODID:-//Sabre//Sabre VObject 4.5.8//EN
CALSCALE:GREGORIAN
BEGIN:VEVENT
UID:sabre-vobject-77783ae9-f53f-4410-ab3a-f527885d9ae6
DTSTAMP:20260423T144350Z
SUMMARY:Maiandacht
DESCRIPTION:https://www2.bistum-augsburg.de/gottesdienste/maiandacht_id1716
 831
DTSTART;TZID=Europe/Berlin:20260502T173000
DURATION:PT30M
LOCATION:St. Elisabeth
END:VEVENT
END:VCALENDAR
