BEGIN:VCALENDAR
VERSION:2.0
PRODID:-//Sabre//Sabre VObject 4.5.8//EN
CALSCALE:GREGORIAN
BEGIN:VEVENT
UID:sabre-vobject-53f52367-85bc-472e-97b4-e2708ead494a
DTSTAMP:20260424T085241Z
SUMMARY:Heilige Messe
DESCRIPTION:https://www2.bistum-augsburg.de/gottesdienste/heilige-messe_id1
 716966
DTSTART;TZID=Europe/Berlin:20260424T083000
DURATION:PT30M
LOCATION:St. Stephan\, Kirchplatz 1\, 87719 Mindelheim
END:VEVENT
END:VCALENDAR
