BEGIN:VCALENDAR
VERSION:2.0
PRODID:-//Sabre//Sabre VObject 4.5.8//EN
CALSCALE:GREGORIAN
BEGIN:VEVENT
UID:sabre-vobject-73bd7738-9c71-4d40-98da-db3e7fa91224
DTSTAMP:20260424T125507Z
SUMMARY:Treffen der Firmlinge und Paten im Pfarrzentrum in Hollenbach
DESCRIPTION:https://www2.bistum-augsburg.de/gottesdienste/treffen-der-firml
 inge-und-paten-im-pfarrzentrum-in-hollenbach_id1716986
DTSTART;TZID=Europe/Berlin:20260424T200000
DURATION:PT30M
LOCATION:St. Michael\, Augsburger Str.\, 86568 Hollenbach
END:VEVENT
END:VCALENDAR
