BEGIN:VCALENDAR
VERSION:2.0
PRODID:-//Sabre//Sabre VObject 4.5.8//EN
CALSCALE:GREGORIAN
BEGIN:VEVENT
UID:sabre-vobject-253ef3aa-1b6f-4d5a-8eb9-9ae300e6e4e8
DTSTAMP:20260419T120257Z
SUMMARY:Festmesse für die Pfarreiengemeinschafti m Hubertushof
DESCRIPTION:https://www2.bistum-augsburg.de/gottesdienste/festmesse-fuer-di
 e-pfarreiengemeinschafti-m-hubertushof_id1717036
DTSTART;TZID=Europe/Berlin:20260514T101500
DURATION:PT30M
LOCATION:St. Franziskus
END:VEVENT
END:VCALENDAR
