BEGIN:VCALENDAR
VERSION:2.0
PRODID:-//Sabre//Sabre VObject 4.5.8//EN
CALSCALE:GREGORIAN
BEGIN:VEVENT
UID:sabre-vobject-12bc4992-9c69-4686-8586-c70047d36337
DTSTAMP:20260419T153101Z
SUMMARY:Heilige Messe - 08:15 Uhr Rosenkranz
DESCRIPTION:https://www2.bistum-augsburg.de/gottesdienste/heilige-messe-08-
 15-uhr-rosenkranz_id1717056
DTSTART;TZID=Europe/Berlin:20260422T090000
DURATION:PT30M
LOCATION:St. Ägidius
END:VEVENT
END:VCALENDAR
