BEGIN:VCALENDAR
VERSION:2.0
PRODID:-//Sabre//Sabre VObject 4.5.8//EN
CALSCALE:GREGORIAN
BEGIN:VEVENT
UID:sabre-vobject-c60bf30b-95ea-4da7-99fe-badecb235748
DTSTAMP:20260423T134345Z
SUMMARY:Vorabendmesse mit Maiandacht
DESCRIPTION:https://www2.bistum-augsburg.de/gottesdienste/vorabendmesse-mit
 -maiandacht_id1717190
DTSTART;TZID=Europe/Berlin:20260502T180000
DURATION:PT30M
LOCATION:St. Peter und Paul\, Pfarrer-Steinacker-Straße 56\, 86551 Ecknach
END:VEVENT
END:VCALENDAR
