BEGIN:VCALENDAR
VERSION:2.0
PRODID:-//Sabre//Sabre VObject 4.5.8//EN
CALSCALE:GREGORIAN
BEGIN:VEVENT
UID:sabre-vobject-99bc3087-11ab-4365-8df9-fda3ac58a242
DTSTAMP:20260420T040506Z
SUMMARY:Rosenkranz und Beichtgelegenheit
DESCRIPTION:https://www2.bistum-augsburg.de/gottesdienste/rosenkranz-und-be
 ichtgelegenheit_id1717224
DTSTART;TZID=Europe/Berlin:20260503T163000
DURATION:PT30M
LOCATION:Kath. Von Langenmantel'sche Kobelkapellenstiftung Stiftung des öf
 fentlichen Rechts\, \, 86356 Neusäß Westheim
END:VEVENT
END:VCALENDAR
