BEGIN:VCALENDAR
VERSION:2.0
PRODID:-//Sabre//Sabre VObject 4.5.8//EN
CALSCALE:GREGORIAN
BEGIN:VEVENT
UID:sabre-vobject-dc521956-f2e1-4229-8ae1-af603f577d2b
DTSTAMP:20260420T080536Z
SUMMARY:Rosenkranz
DESCRIPTION:https://www2.bistum-augsburg.de/gottesdienste/rosenkranz_id1717
 284
DTSTART;TZID=Europe/Berlin:20260423T193000
DURATION:PT30M
LOCATION:St. Elisabeth
END:VEVENT
END:VCALENDAR
