BEGIN:VCALENDAR
VERSION:2.0
PRODID:-//Sabre//Sabre VObject 4.5.8//EN
CALSCALE:GREGORIAN
BEGIN:VEVENT
UID:sabre-vobject-db81a660-209d-408d-b5a0-8242d494bb2a
DTSTAMP:20260420T123458Z
SUMMARY:Tauffeier von Georg Klemens Xaver Kutz
DESCRIPTION:https://www2.bistum-augsburg.de/gottesdienste/tauffeier-von-geo
 rg-klemens-xaver-kutz_id1717296
DTSTART;TZID=Europe/Berlin:20260502T103000
DURATION:PT30M
LOCATION:St. Clemens
END:VEVENT
END:VCALENDAR
