BEGIN:VCALENDAR
VERSION:2.0
PRODID:-//Sabre//Sabre VObject 4.5.8//EN
CALSCALE:GREGORIAN
BEGIN:VEVENT
UID:sabre-vobject-d36ec12e-fe42-49cf-8eef-1e73bdbc3150
DTSTAMP:20260420T083310Z
SUMMARY:Heilige Messe der Katholisch-Italienischen Gemeinde
DESCRIPTION:https://www2.bistum-augsburg.de/gottesdienste/heilige-messe-der
 -katholisch-italienischen-gemeinde_id1717333
DTSTART;TZID=Europe/Berlin:20260426T110000
DURATION:PT30M
LOCATION:St. Canisius\, Hochfeldstr. 63\, 86159 Augsburg
END:VEVENT
END:VCALENDAR
