BEGIN:VCALENDAR
VERSION:2.0
PRODID:-//Sabre//Sabre VObject 4.5.8//EN
CALSCALE:GREGORIAN
BEGIN:VEVENT
UID:sabre-vobject-2befb273-7562-4223-9013-43dee104e72f
DTSTAMP:20260420T142454Z
SUMMARY:Tauffeier für das Kind Matilda Heller-Reifenrath
DESCRIPTION:https://www2.bistum-augsburg.de/gottesdienste/tauffeier-fuer-da
 s-kind-matilda-heller-reifenrath_id1717458
DTSTART;TZID=Europe/Berlin:20260502T103000
DURATION:PT30M
LOCATION:St. Thaddäus\, Ulmer Str. 63\, 86156 Augsburg-Kriegshaber
END:VEVENT
END:VCALENDAR
