BEGIN:VCALENDAR
VERSION:2.0
PRODID:-//Sabre//Sabre VObject 4.5.8//EN
CALSCALE:GREGORIAN
BEGIN:VEVENT
UID:sabre-vobject-5f637e9e-8747-4615-9eba-a530a19be802
DTSTAMP:20260419T225243Z
SUMMARY:Heiliges Amt
DESCRIPTION:https://www2.bistum-augsburg.de/gottesdienste/heiliges-amt_id17
 17600
DTSTART;TZID=Europe/Berlin:20260503T100000
DURATION:PT30M
LOCATION:St. Peter und Paul
END:VEVENT
END:VCALENDAR
