BEGIN:VCALENDAR
VERSION:2.0
PRODID:-//Sabre//Sabre VObject 4.5.8//EN
CALSCALE:GREGORIAN
BEGIN:VEVENT
UID:sabre-vobject-a7ed1a3f-b22b-4866-a9bf-590dae2e7ca4
DTSTAMP:20260420T074351Z
SUMMARY:Firmcafè im Pfarrzentrum
DESCRIPTION:https://www2.bistum-augsburg.de/gottesdienste/firmcafe-im-pfarr
 zentrum_id1717601
DTSTART;TZID=Europe/Berlin:20260503T143000
DURATION:PT30M
LOCATION:St. Peter und Paul
END:VEVENT
END:VCALENDAR
