BEGIN:VCALENDAR
VERSION:2.0
PRODID:-//Sabre//Sabre VObject 4.5.8//EN
CALSCALE:GREGORIAN
BEGIN:VEVENT
UID:sabre-vobject-8a7c0d40-8d10-45fd-b398-667f9c42eb5e
DTSTAMP:20260419T134759Z
SUMMARY:Feier der Erstkommunion
DESCRIPTION:https://www2.bistum-augsburg.de/gottesdienste/feier-der-erstkom
 munion_id1717731
DTSTART;TZID=Europe/Berlin:20260419T101500
DURATION:PT30M
LOCATION:Mutterschaft Mariens
END:VEVENT
END:VCALENDAR
