BEGIN:VCALENDAR
VERSION:2.0
PRODID:-//Sabre//Sabre VObject 4.5.8//EN
CALSCALE:GREGORIAN
BEGIN:VEVENT
UID:sabre-vobject-66161156-5499-4334-af90-9ff9c0336139
DTSTAMP:20260420T040538Z
SUMMARY:Heilige Messe
DESCRIPTION:https://www2.bistum-augsburg.de/gottesdienste/heilige-messe_id1
 717842
DTSTART;TZID=Europe/Berlin:20260421T191500
DURATION:PT30M
LOCATION:St. Clemens
END:VEVENT
END:VCALENDAR
