BEGIN:VCALENDAR
VERSION:2.0
PRODID:-//Sabre//Sabre VObject 4.5.8//EN
CALSCALE:GREGORIAN
BEGIN:VEVENT
UID:sabre-vobject-631bc227-6ebb-40dc-8925-5260d03bf0fb
DTSTAMP:20260423T142422Z
SUMMARY:Hochamt zum Patrozinium unserer Pfarrkirche St. Georg\; Anschl. Kir
 chenkaffee
DESCRIPTION:https://www2.bistum-augsburg.de/gottesdienste/hochamt-zum-patro
 zinium-unserer-pfarrkirche-st-georg-anschl-kirchenkaffee_id1717901
DTSTART;TZID=Europe/Berlin:20260426T103000
DURATION:PT30M
LOCATION:St. Georg
END:VEVENT
END:VCALENDAR
