BEGIN:VCALENDAR
VERSION:2.0
PRODID:-//Sabre//Sabre VObject 4.5.8//EN
CALSCALE:GREGORIAN
BEGIN:VEVENT
UID:sabre-vobject-cb7c1d6a-b128-4b94-8ea7-37ccda5b0ba0
DTSTAMP:20260424T033230Z
SUMMARY:Heilige Messe im Pfarrheim
DESCRIPTION:https://www2.bistum-augsburg.de/gottesdienste/heilige-messe-im-
 pfarrheim_id1717924
DTSTART;TZID=Europe/Berlin:20260426T090000
DURATION:PT30M
LOCATION:St. Martin
END:VEVENT
END:VCALENDAR
