BEGIN:VCALENDAR
VERSION:2.0
PRODID:-//Sabre//Sabre VObject 4.5.8//EN
CALSCALE:GREGORIAN
BEGIN:VEVENT
UID:sabre-vobject-24aec7cd-bff5-4d4d-aa08-2558d9b09d6e
DTSTAMP:20260425T231812Z
SUMMARY:Vorabendmesse zum Hochfest der Schutzfrau Bayerns
DESCRIPTION:https://www2.bistum-augsburg.de/gottesdienste/vorabendmesse-zum
 -hochfest-der-schutzfrau-bayerns_id1717934
DTSTART;TZID=Europe/Berlin:20260430T183000
DURATION:PT30M
LOCATION:St. Georg
END:VEVENT
END:VCALENDAR
