BEGIN:VCALENDAR
VERSION:2.0
PRODID:-//Sabre//Sabre VObject 4.5.8//EN
CALSCALE:GREGORIAN
BEGIN:VEVENT
UID:sabre-vobject-58b19fd0-1888-4dfb-b8c5-d1ea9a4ef6c8
DTSTAMP:20260424T210548Z
SUMMARY:Erste feierliche Maiandacht
DESCRIPTION:https://www2.bistum-augsburg.de/gottesdienste/erste-feierliche-
 maiandacht_id1717935
DTSTART;TZID=Europe/Berlin:20260501T183000
DURATION:PT30M
LOCATION:St. Georg
END:VEVENT
END:VCALENDAR
