BEGIN:VCALENDAR
VERSION:2.0
PRODID:-//Sabre//Sabre VObject 4.5.8//EN
CALSCALE:GREGORIAN
BEGIN:VEVENT
UID:sabre-vobject-446006db-d6b2-490f-a3ca-54ea10d83915
DTSTAMP:20260420T002319Z
SUMMARY:Stille Anbetung + Beichtgelegenheit
DESCRIPTION:https://www2.bistum-augsburg.de/gottesdienste/stille-anbetung-b
 eichtgelegenheit_id1717936
DTSTART;TZID=Europe/Berlin:20260502T063000
DURATION:PT30M
LOCATION:St. Georg
END:VEVENT
END:VCALENDAR
