BEGIN:VCALENDAR
VERSION:2.0
PRODID:-//Sabre//Sabre VObject 4.5.8//EN
CALSCALE:GREGORIAN
BEGIN:VEVENT
UID:sabre-vobject-b4abcf28-7262-440c-b17c-c9aace4c6a39
DTSTAMP:20260425T103811Z
SUMMARY:Lesehore/Laudes
DESCRIPTION:https://www2.bistum-augsburg.de/gottesdienste/lesehore-laudes_i
 d1717991
DTSTART;TZID=Europe/Berlin:20260423T071500
DURATION:PT30M
LOCATION:St. Anton
END:VEVENT
END:VCALENDAR
