BEGIN:VCALENDAR
VERSION:2.0
PRODID:-//Sabre//Sabre VObject 4.5.8//EN
CALSCALE:GREGORIAN
BEGIN:VEVENT
UID:sabre-vobject-9fe82a97-534b-40f9-b56c-7f7b6cbb9887
DTSTAMP:20260420T021638Z
SUMMARY:Hl. Messe/Klosterkirche Kalzhofen
DESCRIPTION:https://www2.bistum-augsburg.de/gottesdienste/hl-messe-klosterk
 irche-kalzhofen_id1718050
DTSTART;TZID=Europe/Berlin:20260427T190000
DURATION:PT30M
LOCATION:St. Peter und Paul
END:VEVENT
END:VCALENDAR
