BEGIN:VCALENDAR
VERSION:2.0
PRODID:-//Sabre//Sabre VObject 4.5.8//EN
CALSCALE:GREGORIAN
BEGIN:VEVENT
UID:sabre-vobject-1163b77e-ba0b-4f43-831d-78c893ae6e27
DTSTAMP:20260424T155357Z
SUMMARY:Rosenkranz für den Frieden / Lourdeskapelle\n
DESCRIPTION:https://www2.bistum-augsburg.de/gottesdienste/rosenkranz-fuer-d
 en-frieden-lourdeskapelle_id1718053
DTSTART;TZID=Europe/Berlin:20260430T163000
DURATION:PT30M
LOCATION:St. Peter und Paul
END:VEVENT
END:VCALENDAR
