BEGIN:VCALENDAR
VERSION:2.0
PRODID:-//Sabre//Sabre VObject 4.5.8//EN
CALSCALE:GREGORIAN
BEGIN:VEVENT
UID:sabre-vobject-678645f4-9317-4564-beee-bbdd86f04506
DTSTAMP:20260424T203335Z
SUMMARY:Beichte der Erstkommunionkinder & anschl. Stellprobe
DESCRIPTION:https://www2.bistum-augsburg.de/gottesdienste/beichte-der-erstk
 ommunionkinder-anschl-stellprobe_id1718056
DTSTART;TZID=Europe/Berlin:20260424T160000
DURATION:PT30M
LOCATION:St. Josef
END:VEVENT
END:VCALENDAR
